BEGIN:VCALENDAR
VERSION:2.0
PRODID:-//Big Sand Lake Association -Burnett County Wisconsin - ECPv6.15.13.1//NONSGML v1.0//EN
CALSCALE:GREGORIAN
METHOD:PUBLISH
X-WR-CALNAME:Big Sand Lake Association -Burnett County Wisconsin
X-ORIGINAL-URL:https://www.bigsandlakewi.org
X-WR-CALDESC:Events for Big Sand Lake Association -Burnett County Wisconsin
REFRESH-INTERVAL;VALUE=DURATION:PT1H
X-Robots-Tag:noindex
X-PUBLISHED-TTL:PT1H
BEGIN:VTIMEZONE
TZID:America/Chicago
BEGIN:DAYLIGHT
TZOFFSETFROM:-0600
TZOFFSETTO:-0500
TZNAME:CDT
DTSTART:20150308T080000
END:DAYLIGHT
BEGIN:STANDARD
TZOFFSETFROM:-0500
TZOFFSETTO:-0600
TZNAME:CST
DTSTART:20151101T070000
END:STANDARD
BEGIN:DAYLIGHT
TZOFFSETFROM:-0600
TZOFFSETTO:-0500
TZNAME:CDT
DTSTART:20160313T080000
END:DAYLIGHT
BEGIN:STANDARD
TZOFFSETFROM:-0500
TZOFFSETTO:-0600
TZNAME:CST
DTSTART:20161106T070000
END:STANDARD
BEGIN:DAYLIGHT
TZOFFSETFROM:-0600
TZOFFSETTO:-0500
TZNAME:CDT
DTSTART:20170312T080000
END:DAYLIGHT
BEGIN:STANDARD
TZOFFSETFROM:-0500
TZOFFSETTO:-0600
TZNAME:CST
DTSTART:20171105T070000
END:STANDARD
BEGIN:DAYLIGHT
TZOFFSETFROM:-0600
TZOFFSETTO:-0500
TZNAME:CDT
DTSTART:20180311T080000
END:DAYLIGHT
BEGIN:STANDARD
TZOFFSETFROM:-0500
TZOFFSETTO:-0600
TZNAME:CST
DTSTART:20181104T070000
END:STANDARD
BEGIN:DAYLIGHT
TZOFFSETFROM:-0600
TZOFFSETTO:-0500
TZNAME:CDT
DTSTART:20190310T080000
END:DAYLIGHT
BEGIN:STANDARD
TZOFFSETFROM:-0500
TZOFFSETTO:-0600
TZNAME:CST
DTSTART:20191103T070000
END:STANDARD
BEGIN:DAYLIGHT
TZOFFSETFROM:-0600
TZOFFSETTO:-0500
TZNAME:CDT
DTSTART:20200308T080000
END:DAYLIGHT
BEGIN:STANDARD
TZOFFSETFROM:-0500
TZOFFSETTO:-0600
TZNAME:CST
DTSTART:20201101T070000
END:STANDARD
BEGIN:DAYLIGHT
TZOFFSETFROM:-0600
TZOFFSETTO:-0500
TZNAME:CDT
DTSTART:20210314T080000
END:DAYLIGHT
BEGIN:STANDARD
TZOFFSETFROM:-0500
TZOFFSETTO:-0600
TZNAME:CST
DTSTART:20211107T070000
END:STANDARD
BEGIN:DAYLIGHT
TZOFFSETFROM:-0600
TZOFFSETTO:-0500
TZNAME:CDT
DTSTART:20220313T080000
END:DAYLIGHT
BEGIN:STANDARD
TZOFFSETFROM:-0500
TZOFFSETTO:-0600
TZNAME:CST
DTSTART:20221106T070000
END:STANDARD
BEGIN:DAYLIGHT
TZOFFSETFROM:-0600
TZOFFSETTO:-0500
TZNAME:CDT
DTSTART:20230312T080000
END:DAYLIGHT
BEGIN:STANDARD
TZOFFSETFROM:-0500
TZOFFSETTO:-0600
TZNAME:CST
DTSTART:20231105T070000
END:STANDARD
BEGIN:DAYLIGHT
TZOFFSETFROM:-0600
TZOFFSETTO:-0500
TZNAME:CDT
DTSTART:20240310T080000
END:DAYLIGHT
BEGIN:STANDARD
TZOFFSETFROM:-0500
TZOFFSETTO:-0600
TZNAME:CST
DTSTART:20241103T070000
END:STANDARD
BEGIN:DAYLIGHT
TZOFFSETFROM:-0600
TZOFFSETTO:-0500
TZNAME:CDT
DTSTART:20250309T080000
END:DAYLIGHT
BEGIN:STANDARD
TZOFFSETFROM:-0500
TZOFFSETTO:-0600
TZNAME:CST
DTSTART:20251102T070000
END:STANDARD
BEGIN:DAYLIGHT
TZOFFSETFROM:-0600
TZOFFSETTO:-0500
TZNAME:CDT
DTSTART:20260308T080000
END:DAYLIGHT
BEGIN:STANDARD
TZOFFSETFROM:-0500
TZOFFSETTO:-0600
TZNAME:CST
DTSTART:20261101T070000
END:STANDARD
BEGIN:DAYLIGHT
TZOFFSETFROM:-0600
TZOFFSETTO:-0500
TZNAME:CDT
DTSTART:20270314T080000
END:DAYLIGHT
BEGIN:STANDARD
TZOFFSETFROM:-0500
TZOFFSETTO:-0600
TZNAME:CST
DTSTART:20271107T070000
END:STANDARD
END:VTIMEZONE
BEGIN:VEVENT
DTSTART;VALUE=DATE:20260415
DTEND;VALUE=DATE:20260418
DTSTAMP:20260423T105504
CREATED:20200208T214009Z
LAST-MODIFIED:20260117T194533Z
UID:1155-1776211200-1776470399@www.bigsandlakewi.org
SUMMARY:Wisconsin Lakes and Rivers Convention
DESCRIPTION:
URL:https://www.bigsandlakewi.org/event/wisconsin-lakes-and-rivers-convention/
LOCATION:Stevens Point Holiday Inn\, 1001 Amber Ave\, Stevens Point\, WI\,  54482\, United States
END:VEVENT
BEGIN:VEVENT
DTSTART;VALUE=DATE:20210308
DTEND;VALUE=DATE:20210313
DTSTAMP:20260423T105504
CREATED:20210227T032944Z
LAST-MODIFIED:20210227T032944Z
UID:1256-1615161600-1615593599@www.bigsandlakewi.org
SUMMARY:Wisconsin Water Week
DESCRIPTION:The 2021 Wisconsin Lakes and Rivers Convention\nwill be a virtual event and it is now part of a larger (the first ever) Wisconsin Water Week!\nOur theme for 2021 is “Navigating in Turbulent Times” and we will be looking to spotlight innovative ways that water groups are continuing to advance their work in the face of unprecedented challenges.\nRegistration is Now Open!
URL:https://www.bigsandlakewi.org/event/wisconsin-water-week/
END:VEVENT
BEGIN:VEVENT
DTSTART;VALUE=DATE:20201116
DTEND;VALUE=DATE:20201121
DTSTAMP:20260423T105504
CREATED:20140815T182036Z
LAST-MODIFIED:20200207T203057Z
UID:592-1605484800-1605916799@www.bigsandlakewi.org
SUMMARY:North American Lake Management Assoc. Symposium
DESCRIPTION:
URL:https://www.bigsandlakewi.org/event/north-american-lake-management-assoc-symposium/
LOCATION:TBD
END:VEVENT
BEGIN:VEVENT
DTSTART;TZID=America/Chicago:20190518T090000
DTEND;TZID=America/Chicago:20190518T140000
DTSTAMP:20260423T105504
CREATED:20190131T223757Z
LAST-MODIFIED:20190201T031652Z
UID:1101-1558170000-1558188000@www.bigsandlakewi.org
SUMMARY:Town of Sand Lake Clean-up Day
DESCRIPTION:The town of Sand Lake is having a community cleanup/recycle day on May 18.  Town residents are urged to pick up their roadside trash and bring it to the town shop for disposal.  At the same time people who wish to recycle metal items\, tires\, and appliances can bring them to the town shop.  For items with refrigerants and for tires\, there will be a modest charge. No electronics or microwaves will be accepted
URL:https://www.bigsandlakewi.org/event/town-of-sand-lake-clean-up-day/
LOCATION:Town of Sand Lake Shop\, Dongola Rd\, Webster\, 54893
END:VEVENT
BEGIN:VEVENT
DTSTART;VALUE=DATE:20190410
DTEND;VALUE=DATE:20190413
DTSTAMP:20260423T105504
CREATED:20140815T181331Z
LAST-MODIFIED:20181001T202633Z
UID:590-1554854400-1555113599@www.bigsandlakewi.org
SUMMARY:Wisconsin Lakes Partnership Convention
DESCRIPTION:
URL:https://www.bigsandlakewi.org/event/wisconsin-lake-partnership-convention/
LOCATION:Holiday Inn and Convention Center\, 1001 Amber Ave\, Stevens Point\, WI\, 54482\, United States
ORGANIZER;CN="Wisconsin Lakes":MAILTO:info@wisconsinlakes.org
END:VEVENT
BEGIN:VEVENT
DTSTART;VALUE=DATE:20170916
DTEND;VALUE=DATE:20170917
DTSTAMP:20260423T105504
CREATED:20140329T203920Z
LAST-MODIFIED:20170524T150832Z
UID:474-1505520000-1505606399@www.bigsandlakewi.org
SUMMARY:Grantoberfest
DESCRIPTION:Admission is free and there is something for all ages! \nThe event is held from 10am – 4pm at the Grantsburg Fairgrounds (914 South Pine St – just 1/2 mile south of Hwy 70/87/48 stop light intersection) \ngrantoberfest.com
URL:https://www.bigsandlakewi.org/event/grantoberfest-2/
END:VEVENT
BEGIN:VEVENT
DTSTART;VALUE=DATE:20170811
DTEND;VALUE=DATE:20170813
DTSTAMP:20260423T105504
CREATED:20140309T161453Z
LAST-MODIFIED:20170524T150738Z
UID:421-1502409600-1502582399@www.bigsandlakewi.org
SUMMARY:Gander Dancer Family Days
DESCRIPTION:Gander Dancer Days
URL:https://www.bigsandlakewi.org/event/gander-dancer-family-days/
END:VEVENT
BEGIN:VEVENT
DTSTART;VALUE=DATE:20170804
DTEND;VALUE=DATE:20170807
DTSTAMP:20260423T105504
CREATED:20150628T203843Z
LAST-MODIFIED:20170804T210455Z
UID:726-1501804800-1502063999@www.bigsandlakewi.org
SUMMARY:Siren Summerfest & Reunion
DESCRIPTION:Siren Summerfest Days & Reunion \nA weekend packed with summer\nfun. Summerfest Sales\, Arts\nShows\, Book Reading\, Food Fest\,\nMen’s Slow Pitch Softball\, Co-ed\nVolleyball Tournament\, Pie eating\nContest\, Lucky Ducky Rotary Retrieve\,\nFarmers Market.
URL:https://www.bigsandlakewi.org/event/siren-summerfest-reunion-2/
END:VEVENT
BEGIN:VEVENT
DTSTART;VALUE=DATE:20170804
DTEND;VALUE=DATE:20170807
DTSTAMP:20260423T105504
CREATED:20140309T163451Z
LAST-MODIFIED:20170524T145701Z
UID:433-1501804800-1502063999@www.bigsandlakewi.org
SUMMARY:Jack Pine Savage Days
DESCRIPTION:Jack Pine Savage Days
URL:https://www.bigsandlakewi.org/event/jack-pine-savage-days/
END:VEVENT
BEGIN:VEVENT
DTSTART;TZID=America/Chicago:20170722T070000
DTEND;TZID=America/Chicago:20170722T150000
DTSTAMP:20260423T105504
CREATED:20150628T200622Z
LAST-MODIFIED:20170418T202522Z
UID:717-1500706800-1500735600@www.bigsandlakewi.org
SUMMARY:Gandy Dancer Fly-In/Drive-In
DESCRIPTION:www.gandydancerflyindrivein.com \nFOOD\n\nBreakfast -Served by the Burnett County Ag Club from 7am-11am. (Plain or wild rice pancakes)\nBrats – Served by the Lions Club from 10am to 1pm\nTacos and more!\n\n5K TRAIL RUN/WALK 7:30AM\n\nSign up form – pdf\n\nAEROBATICS 12AM AND 2PM\nSTATIC DISPLAY AIRCRAFT 7AM-11AM\n\nMig 17\nSea Fury\nCirrus SR22\nT6s\nBird Dogs\nSteerman\nHowards\nMerlin\nL39 jet\n\nREMOTE CONTROL AIRCRAFT 12PM-1PM\n\nDisplayed by Rice Lake RC Club. www.ricelakemodelairplaneclub.com 7:30am – 1:00pm\nWill be flown from 2pm\n\nEMERGENCY VEHICLES\n\nFire trucks from Webster and Siren\nEmergency vehicles from Webster and Siren\n\nAIRPLANE RIDES\n\nHawk Aviation provides ride for $35.00 ea person
URL:https://www.bigsandlakewi.org/event/gandy-dancer-air-show/
LOCATION:Burnett County Airport\, 7410 County Road K\, Siren\, WI\, United States
END:VEVENT
BEGIN:VEVENT
DTSTART;VALUE=DATE:20170721
DTEND;VALUE=DATE:20170724
DTSTAMP:20260423T105504
CREATED:20140329T201058Z
LAST-MODIFIED:20170524T151333Z
UID:459-1500595200-1500854399@www.bigsandlakewi.org
SUMMARY:World Championship Snowmobile Watercross
DESCRIPTION:Grantsburg Watercross
URL:https://www.bigsandlakewi.org/event/world-championship-snowmobile-watercross/
END:VEVENT
BEGIN:VEVENT
DTSTART;VALUE=DATE:20170706
DTEND;VALUE=DATE:20170709
DTSTAMP:20260423T105504
CREATED:20140309T162740Z
LAST-MODIFIED:20170524T145322Z
UID:428-1499299200-1499558399@www.bigsandlakewi.org
SUMMARY:Spooner Rodeo
DESCRIPTION:Spooner Rodeo \nClick the above link for ticket information.
URL:https://www.bigsandlakewi.org/event/spooner-rodeo-2/
LOCATION:Washburn Country Fair Grounds
END:VEVENT
BEGIN:VEVENT
DTSTART;VALUE=DATE:20170616
DTEND;VALUE=DATE:20170618
DTSTAMP:20260423T105504
CREATED:20140329T195723Z
LAST-MODIFIED:20170524T150516Z
UID:451-1497571200-1497743999@www.bigsandlakewi.org
SUMMARY:Burnett Dairy Days
DESCRIPTION:Dairy website
URL:https://www.bigsandlakewi.org/event/burnett-dairy-days/
LOCATION:Burnett Country Dairy Cooperative\, 11631 Wisconsin 70\, Granstburg\, WI\, 54840\, United States
END:VEVENT
BEGIN:VEVENT
DTSTART;VALUE=DATE:20161208
DTEND;VALUE=DATE:20161212
DTSTAMP:20260423T105504
CREATED:20151024T180135Z
LAST-MODIFIED:20160409T123026Z
UID:787-1481155200-1481500799@www.bigsandlakewi.org
SUMMARY:Antlerless dear hunt
DESCRIPTION:
URL:https://www.bigsandlakewi.org/event/deer-hunting-season-gun/
END:VEVENT
BEGIN:VEVENT
DTSTART;VALUE=DATE:20161119
DTEND;VALUE=DATE:20161128
DTSTAMP:20260423T105504
CREATED:20151024T180415Z
LAST-MODIFIED:20160409T123310Z
UID:789-1479513600-1480291199@www.bigsandlakewi.org
SUMMARY:Deer hunting season - gun
DESCRIPTION:
URL:https://www.bigsandlakewi.org/event/deer-hunting-season-gun-2/
END:VEVENT
BEGIN:VEVENT
DTSTART;VALUE=DATE:20160922
DTEND;VALUE=DATE:20160925
DTSTAMP:20260423T105504
CREATED:20140309T154204Z
LAST-MODIFIED:20160409T114223Z
UID:416-1474502400-1474761599@www.bigsandlakewi.org
SUMMARY:Siren Harvestfest
DESCRIPTION:HARVESTFEST SALES & OPEN HOUSES\nEnjoy refreshments & goodies!\nCheck retailer ads for details!\nCommunities United in Education \nTOUR de PUMPKIN\nCelebrate Fall with a Family Bike Ride · 20\, 10 & 4 mile Rides\n9-10 am Registration · 9:15 & 10:00 am Starts\n715-349-7070 · www.CUEClass.com\nIndoor BAKE SALE\n9 am-3 pm or Sold Out · Siren Senior Center \nSiren HARVEST OF CARS\n10 am-3 pm · Yourchuck’s True Value\nTrophies for Top Ten Cars · Door Prizes for Show Cars\n1-3 pm · Beer/Wine Tasting\, Music\, Food & Refreshments\nContact: Joe\, 715-349-5200 or Larry\, 612-750-6766 \nBurnett Area Arts Group\nUP NORTH ARTS ALIVE SALE\n10 am-3 pm · BAAG Art Center\, Hwy. 35 North\nHand-Crafted ARTISANS & CRAFTERS SHOW\nSiren Lions Club FOOD & REFRESHMENTS\n10:30 am-3:30 pm · Crooked Lake Park \nPETTING ZOO (pending)\n11 am-3 pm · Crooked Lake Park\nCoen’s Belgians CARRIAGE RIDES\n11 am-3 pm · Crooked Lake Park · FREE!\nBurnett Youth Hockey Association \nDODGEBALL TOURNAMENT\nLodge Center Arena Hockey Rink · Co-ed Teams\nContact: Devin\, 715-205-9775 · burnettyouthhockey.com\nAcorn Pantry BAKING CONTEST (pending)\nOpen to ‘Home Bakers’ (no businesses)\n12 noon-2 pm · Shops at The Lodge\nPrizes! · 715-349-8995 or apantry@sirentel.net\nSiren/Webster Rotary \nCOIN IN A HAYSTACK GAME\n12:15 pm · Crooked Lake Park\n4 age groups: 4-11 yrs old \nHumane Society of Burnett County\nWALK FOR THE ANIMALS 5k or 1 Mile\nLOOKALIKE CONTEST (Dog & Owner)\nWEE WAGGERS RACE (Dogs 25 lbs. & under)\n1 pm WALK Start · Meet at Veterans Park · Other events follow\n715-866-4096 · Register online www.hsburnettcty.org
URL:https://www.bigsandlakewi.org/event/siren-harvestfest-2/
END:VEVENT
BEGIN:VEVENT
DTSTART;VALUE=DATE:20160826
DTEND;VALUE=DATE:20160829
DTSTAMP:20260423T105504
CREATED:20140815T183419Z
LAST-MODIFIED:20160409T120317Z
UID:595-1472169600-1472428799@www.bigsandlakewi.org
SUMMARY:St. Croix Annual Traditional Wild Rice Pow-wow
DESCRIPTION:The Wild Rice Pow-Wow\, in celebration of the annual wild rice harvest\, is held 2 miles west of Danbury on Highway 77. In recent years the pow-wow has been restored to its original status of a traditional pow-wow. The annual event brings hundreds of dancers and singers from all over the Midwest and Canada. The pow-wow features arts & crafts and traditional Native American food.
URL:https://www.bigsandlakewi.org/event/st-croix-annual-traditional-wild-rice-pow-wow/
LOCATION:Tribal Grounds in Danbury\, Hwy 77; 2 miles west of Danbury\, Danbury\, WI\, United States
END:VEVENT
BEGIN:VEVENT
DTSTART;VALUE=DATE:20160820
DTEND;VALUE=DATE:20160821
DTSTAMP:20260423T105504
CREATED:20140329T203228Z
LAST-MODIFIED:20160409T120838Z
UID:469-1471651200-1471737599@www.bigsandlakewi.org
SUMMARY:Danbury Lions Oktoberfest
DESCRIPTION:
URL:https://www.bigsandlakewi.org/event/danbury-lions-oktoberfest/
END:VEVENT
BEGIN:VEVENT
DTSTART;TZID=America/Chicago:20160814T090000
DTEND;TZID=America/Chicago:20160814T140000
DTSTAMP:20260423T105504
CREATED:20160408T123442Z
LAST-MODIFIED:20160408T123442Z
UID:812-1471165200-1471183200@www.bigsandlakewi.org
SUMMARY:Youth in the Outdoors Day @ Coyland Creek
DESCRIPTION:YOUTH IN THE OUTDOORS\n9AM to 2PM \nAll area youth are invited to experience the outdoors \nActivities include:\nOutdoor crafts and painting\ndemonstrations from area businesses\norienteering\noutdoor cooking\ncanoeing\neducational demonstrations\n.22 & BB gun target shooting\ncasting activities\nfly fishing & fly tying\narchery shooting\nsafari van international\nDNR “Wall of Shame” trailer\nbounce house \nSome activities are targeted but not limited to ages 3 – 13\nfree lunch and lemonade for the kids\nFood available to purchase for adults \nCoyland Creek is located 8 miles from Siren on County Rd B or\n8 miles from Lewis on County Rd E \nFor more information contact Kelsie at 715-653-4273\nor visit www.coylandcreek.com
URL:https://www.bigsandlakewi.org/event/youth-in-the-outdoors-day-coyland-creek/
LOCATION:Coyland Creek
END:VEVENT
BEGIN:VEVENT
DTSTART;VALUE=DATE:20160728
DTEND;VALUE=DATE:20160731
DTSTAMP:20260423T105504
CREATED:20150716T225906Z
LAST-MODIFIED:20160409T102627Z
UID:763-1469664000-1469923199@www.bigsandlakewi.org
SUMMARY:Lumberjack World Championships
DESCRIPTION:Shows begin at 5pm \nlumberjackchampionships.com
URL:https://www.bigsandlakewi.org/event/lumberjack-world-championships/
LOCATION:Lumberjack Grounds\, 15670 West County Road B\, Hayward\, WI\, 54843\, United States
END:VEVENT
BEGIN:VEVENT
DTSTART;VALUE=DATE:20160721
DTEND;VALUE=DATE:20160725
DTSTAMP:20260423T105504
CREATED:20150628T203401Z
LAST-MODIFIED:20160718T232524Z
UID:725-1469059200-1469404799@www.bigsandlakewi.org
SUMMARY:Central Burnett County Fair
DESCRIPTION:FAIR TIME!\nA Webster WI. Tradition \ncbcfair.org
URL:https://www.bigsandlakewi.org/event/central-burnett-county-fair-3/
LOCATION:Webster Fairgrounds
CATEGORIES:Community Event
END:VEVENT
BEGIN:VEVENT
DTSTART;VALUE=DATE:20160716
DTEND;VALUE=DATE:20160725
DTSTAMP:20260423T105504
CREATED:20140329T201716Z
LAST-MODIFIED:20160408T120753Z
UID:462-1468627200-1469404799@www.bigsandlakewi.org
SUMMARY:Great Folle Avoine Fur Trade Rendezvous
DESCRIPTION:Rendezvous Info
URL:https://www.bigsandlakewi.org/event/great-folle-avoine-fur-trade-rendezvous/
LOCATION:Forts Folle Avoine\, 8500 County Road U\, Danbury\, WI\, 54830\, United States
ORGANIZER;CN="Burnett County Historical Society at the Forts":MAILTO:fahp@centurytel.net
END:VEVENT
BEGIN:VEVENT
DTSTART;TZID=America/Chicago:20160703T200000
DTEND;TZID=America/Chicago:20160703T200000
DTSTAMP:20260423T105504
CREATED:20150625T153645Z
LAST-MODIFIED:20160409T121409Z
UID:715-1467576000-1467576000@www.bigsandlakewi.org
SUMMARY:4th of July Festival in Siren - click link for schedule
DESCRIPTION:Schedule based on past years \n5K race – 8am Main street\nBed Races – 10am Main Street\nKiddie Parade – 11am Main Street\nGrand Parade – 11:30am Main Street\nBoat Parade – 2:30pm Crooked Lake\nHomemade Pie & Ice Cream – 9am – 2pm  United Methodist Church\nMusic in the Park – 8pm – Crooked Lake Park\nLions Club Cookout – 3pm to 8pm Crooked Lake Park\nFireworks – Dusk – Crooked Lake Park \nVisitsiren.com  for more details
URL:https://www.bigsandlakewi.org/event/4th-of-july-festival-in-siren-click-link-for-schedule/
END:VEVENT
BEGIN:VEVENT
DTSTART;VALUE=DATE:20160617
DTEND;VALUE=DATE:20160620
DTSTAMP:20260423T105504
CREATED:20140329T200428Z
LAST-MODIFIED:20160408T120612Z
UID:454-1466121600-1466380799@www.bigsandlakewi.org
SUMMARY:Yellow River Echoes
DESCRIPTION:From 10-4 \nCome see the “echoes” of the fur-trade past. Yellow River Echoes interprets the fur traders and their neighbors known or surmissed to have been active during the XY Company and NorthWest Company’s residence here during the years of 1802-1805. Event activities include fur post interpretation\, Ojibwe village interpretation\, demonstations and workshops\, and competitions and games. \nthe Fort
URL:https://www.bigsandlakewi.org/event/yellow-river-echoes/
LOCATION:Forts Folle Avoine\, 8500 County Road U\, Danbury\, WI\, 54830\, United States
END:VEVENT
BEGIN:VEVENT
DTSTART;TZID=America/Chicago:20160605T090000
DTEND;TZID=America/Chicago:20160605T120000
DTSTAMP:20260423T105504
CREATED:20140309T150736Z
LAST-MODIFIED:20160409T121855Z
UID:387-1465117200-1465128000@www.bigsandlakewi.org
SUMMARY:FREE kids fishing contest
DESCRIPTION:
URL:https://www.bigsandlakewi.org/event/free-kids-fishing-contest/
LOCATION:Clam Lake Wayside\, Rt 70\, East\, Siren\, WI\, United States
END:VEVENT
BEGIN:VEVENT
DTSTART;VALUE=DATE:20160604
DTEND;VALUE=DATE:20160605
DTSTAMP:20260423T105504
CREATED:20140329T195052Z
LAST-MODIFIED:20160408T124743Z
UID:450-1464998400-1465084799@www.bigsandlakewi.org
SUMMARY:Big Gust Days - Grantsburg
DESCRIPTION:Grantsburgchamber.com
URL:https://www.bigsandlakewi.org/event/big-gust-days-gransburg/
END:VEVENT
BEGIN:VEVENT
DTSTART;TZID=America/Chicago:20160602T183000
DTEND;TZID=America/Chicago:20160602T203000
DTSTAMP:20260423T105504
CREATED:20140309T153403Z
LAST-MODIFIED:20160409T114639Z
UID:407-1464892200-1464899400@www.bigsandlakewi.org
SUMMARY:Music in the Park Season Begins
DESCRIPTION:
URL:https://www.bigsandlakewi.org/event/music-in-the-park/
END:VEVENT
BEGIN:VEVENT
DTSTART;TZID=America/Chicago:20160514T080000
DTEND;TZID=America/Chicago:20160514T140000
DTSTAMP:20260423T105504
CREATED:20140329T193631Z
LAST-MODIFIED:20160408T121304Z
UID:445-1463212800-1463234400@www.bigsandlakewi.org
SUMMARY:Adventure Triathlon
DESCRIPTION:Triathlon Website
URL:https://www.bigsandlakewi.org/event/adventure-triathalon/
LOCATION:Memory Lake Park\, Grantsburg\, WI\, United States
END:VEVENT
BEGIN:VEVENT
DTSTART;VALUE=DATE:20160507
DTEND;VALUE=DATE:20160508
DTSTAMP:20260423T105504
CREATED:20160408T113044Z
LAST-MODIFIED:20160408T113044Z
UID:810-1462579200-1462665599@www.bigsandlakewi.org
SUMMARY:Fishing Opener (follow link for more info)
DESCRIPTION:DNR info by species
URL:https://www.bigsandlakewi.org/event/fishing-opener-follow-link-for-more-info/
END:VEVENT
BEGIN:VEVENT
DTSTART;TZID=America/Chicago:20160423T143000
DTEND;TZID=America/Chicago:20160423T153000
DTSTAMP:20260423T105504
CREATED:20160405T023315Z
LAST-MODIFIED:20160412T133206Z
UID:806-1461421800-1461425400@www.bigsandlakewi.org
SUMMARY:Town of LaFollette Annual Meeting
DESCRIPTION:
URL:https://www.bigsandlakewi.org/event/town-of-lafollette-annual-meeting/
LOCATION:Town of LaFollete Town Hall\, 24814 Malone Road\, Webster\, 54893\, United States
CATEGORIES:Town Meeting
END:VEVENT
END:VCALENDAR