BEGIN:VCALENDAR
VERSION:2.0
PRODID:-//Big Sand Lake Association -Burnett County Wisconsin - ECPv6.15.13.1//NONSGML v1.0//EN
CALSCALE:GREGORIAN
METHOD:PUBLISH
X-WR-CALNAME:Big Sand Lake Association -Burnett County Wisconsin
X-ORIGINAL-URL:https://www.bigsandlakewi.org
X-WR-CALDESC:Events for Big Sand Lake Association -Burnett County Wisconsin
REFRESH-INTERVAL;VALUE=DURATION:PT1H
X-Robots-Tag:noindex
X-PUBLISHED-TTL:PT1H
BEGIN:VTIMEZONE
TZID:America/Chicago
BEGIN:DAYLIGHT
TZOFFSETFROM:-0600
TZOFFSETTO:-0500
TZNAME:CDT
DTSTART:20250309T080000
END:DAYLIGHT
BEGIN:STANDARD
TZOFFSETFROM:-0500
TZOFFSETTO:-0600
TZNAME:CST
DTSTART:20251102T070000
END:STANDARD
BEGIN:DAYLIGHT
TZOFFSETFROM:-0600
TZOFFSETTO:-0500
TZNAME:CDT
DTSTART:20260308T080000
END:DAYLIGHT
BEGIN:STANDARD
TZOFFSETFROM:-0500
TZOFFSETTO:-0600
TZNAME:CST
DTSTART:20261101T070000
END:STANDARD
BEGIN:DAYLIGHT
TZOFFSETFROM:-0600
TZOFFSETTO:-0500
TZNAME:CDT
DTSTART:20270314T080000
END:DAYLIGHT
BEGIN:STANDARD
TZOFFSETFROM:-0500
TZOFFSETTO:-0600
TZNAME:CST
DTSTART:20271107T070000
END:STANDARD
END:VTIMEZONE
BEGIN:VEVENT
DTSTART;TZID=America/Chicago:20260612T080000
DTEND;TZID=America/Chicago:20260612T153000
DTSTAMP:20260423T171733
CREATED:20160505T003937Z
LAST-MODIFIED:20260117T200507Z
UID:836-1781251200-1781278200@www.bigsandlakewi.org
SUMMARY:Northwest Wisconsin Lakes Conference
DESCRIPTION:
URL:https://www.bigsandlakewi.org/event/northwest-wisconsin-lakes-conference/
LOCATION:Hayward High School\, 10320 North Greenwood Lane\, Hayward\, WI\, United States
END:VEVENT
BEGIN:VEVENT
DTSTART;TZID=America/Chicago:20260718T100000
DTEND;TZID=America/Chicago:20260718T120000
DTSTAMP:20260423T171733
CREATED:20150518T160433Z
LAST-MODIFIED:20260111T175213Z
UID:694-1784368800-1784376000@www.bigsandlakewi.org
SUMMARY:BSLA Annual Meeting
DESCRIPTION:
URL:https://www.bigsandlakewi.org/event/bslpa-annual-meeting-2/
LOCATION:Siren Senior Center\, 23943 WI-35\, Siren\, WI\, 54872\, United States
ORGANIZER;CN="Big Sand Lake Association":MAILTO:bigsandlakewi@gmail.com
END:VEVENT
BEGIN:VEVENT
DTSTART;TZID=America/Chicago:20260718T120000
DTEND;TZID=America/Chicago:20260718T120000
DTSTAMP:20260423T171734
CREATED:20160708T163154Z
LAST-MODIFIED:20260111T175429Z
UID:897-1784376000-1784376000@www.bigsandlakewi.org
SUMMARY:BSLA Picnic - come meet your lake neighbors
DESCRIPTION:
URL:https://www.bigsandlakewi.org/event/bsla-picnic-come-meet-your-lake-neighbors/
ORGANIZER;CN="Big Sand Lake Association":MAILTO:bigsandlakewi@gmail.com
END:VEVENT
END:VCALENDAR