BEGIN:VCALENDAR
VERSION:2.0
PRODID:-//Big Sand Lake Association -Burnett County Wisconsin - ECPv6.15.13.1//NONSGML v1.0//EN
CALSCALE:GREGORIAN
METHOD:PUBLISH
X-WR-CALNAME:Big Sand Lake Association -Burnett County Wisconsin
X-ORIGINAL-URL:https://www.bigsandlakewi.org
X-WR-CALDESC:Events for Big Sand Lake Association -Burnett County Wisconsin
REFRESH-INTERVAL;VALUE=DURATION:PT1H
X-Robots-Tag:noindex
X-PUBLISHED-TTL:PT1H
BEGIN:VTIMEZONE
TZID:America/Chicago
BEGIN:DAYLIGHT
TZOFFSETFROM:-0600
TZOFFSETTO:-0500
TZNAME:CDT
DTSTART:20130310T080000
END:DAYLIGHT
BEGIN:STANDARD
TZOFFSETFROM:-0500
TZOFFSETTO:-0600
TZNAME:CST
DTSTART:20131103T070000
END:STANDARD
BEGIN:DAYLIGHT
TZOFFSETFROM:-0600
TZOFFSETTO:-0500
TZNAME:CDT
DTSTART:20140309T080000
END:DAYLIGHT
BEGIN:STANDARD
TZOFFSETFROM:-0500
TZOFFSETTO:-0600
TZNAME:CST
DTSTART:20141102T070000
END:STANDARD
BEGIN:DAYLIGHT
TZOFFSETFROM:-0600
TZOFFSETTO:-0500
TZNAME:CDT
DTSTART:20150308T080000
END:DAYLIGHT
BEGIN:STANDARD
TZOFFSETFROM:-0500
TZOFFSETTO:-0600
TZNAME:CST
DTSTART:20151101T070000
END:STANDARD
BEGIN:DAYLIGHT
TZOFFSETFROM:-0600
TZOFFSETTO:-0500
TZNAME:CDT
DTSTART:20160313T080000
END:DAYLIGHT
BEGIN:STANDARD
TZOFFSETFROM:-0500
TZOFFSETTO:-0600
TZNAME:CST
DTSTART:20161106T070000
END:STANDARD
BEGIN:DAYLIGHT
TZOFFSETFROM:-0600
TZOFFSETTO:-0500
TZNAME:CDT
DTSTART:20170312T080000
END:DAYLIGHT
BEGIN:STANDARD
TZOFFSETFROM:-0500
TZOFFSETTO:-0600
TZNAME:CST
DTSTART:20171105T070000
END:STANDARD
END:VTIMEZONE
BEGIN:VEVENT
DTSTART;VALUE=DATE:20160716
DTEND;VALUE=DATE:20160725
DTSTAMP:20260423T191257
CREATED:20140329T201716Z
LAST-MODIFIED:20160408T120753Z
UID:462-1468627200-1469404799@www.bigsandlakewi.org
SUMMARY:Great Folle Avoine Fur Trade Rendezvous
DESCRIPTION:Rendezvous Info
URL:https://www.bigsandlakewi.org/event/great-folle-avoine-fur-trade-rendezvous/
LOCATION:Forts Folle Avoine\, 8500 County Road U\, Danbury\, WI\, 54830\, United States
ORGANIZER;CN="Burnett County Historical Society at the Forts":MAILTO:fahp@centurytel.net
END:VEVENT
BEGIN:VEVENT
DTSTART;TZID=America/Chicago:20160703T200000
DTEND;TZID=America/Chicago:20160703T200000
DTSTAMP:20260423T191257
CREATED:20150625T153645Z
LAST-MODIFIED:20160409T121409Z
UID:715-1467576000-1467576000@www.bigsandlakewi.org
SUMMARY:4th of July Festival in Siren - click link for schedule
DESCRIPTION:Schedule based on past years \n5K race – 8am Main street\nBed Races – 10am Main Street\nKiddie Parade – 11am Main Street\nGrand Parade – 11:30am Main Street\nBoat Parade – 2:30pm Crooked Lake\nHomemade Pie & Ice Cream – 9am – 2pm  United Methodist Church\nMusic in the Park – 8pm – Crooked Lake Park\nLions Club Cookout – 3pm to 8pm Crooked Lake Park\nFireworks – Dusk – Crooked Lake Park \nVisitsiren.com  for more details
URL:https://www.bigsandlakewi.org/event/4th-of-july-festival-in-siren-click-link-for-schedule/
LOCATION:WI
END:VEVENT
BEGIN:VEVENT
DTSTART;VALUE=DATE:20160617
DTEND;VALUE=DATE:20160620
DTSTAMP:20260423T191257
CREATED:20140329T200428Z
LAST-MODIFIED:20160408T120612Z
UID:454-1466121600-1466380799@www.bigsandlakewi.org
SUMMARY:Yellow River Echoes
DESCRIPTION:From 10-4 \nCome see the “echoes” of the fur-trade past. Yellow River Echoes interprets the fur traders and their neighbors known or surmissed to have been active during the XY Company and NorthWest Company’s residence here during the years of 1802-1805. Event activities include fur post interpretation\, Ojibwe village interpretation\, demonstations and workshops\, and competitions and games. \nthe Fort
URL:https://www.bigsandlakewi.org/event/yellow-river-echoes/
LOCATION:Forts Folle Avoine\, 8500 County Road U\, Danbury\, WI\, 54830\, United States
END:VEVENT
BEGIN:VEVENT
DTSTART;TZID=America/Chicago:20160605T090000
DTEND;TZID=America/Chicago:20160605T120000
DTSTAMP:20260423T191257
CREATED:20140309T150736Z
LAST-MODIFIED:20160409T121855Z
UID:387-1465117200-1465128000@www.bigsandlakewi.org
SUMMARY:FREE kids fishing contest
DESCRIPTION:
URL:https://www.bigsandlakewi.org/event/free-kids-fishing-contest/
LOCATION:Clam Lake Wayside\, Rt 70\, East\, Siren\, WI\, United States
END:VEVENT
BEGIN:VEVENT
DTSTART;VALUE=DATE:20160604
DTEND;VALUE=DATE:20160605
DTSTAMP:20260423T191257
CREATED:20140329T195052Z
LAST-MODIFIED:20160408T124743Z
UID:450-1464998400-1465084799@www.bigsandlakewi.org
SUMMARY:Big Gust Days - Grantsburg
DESCRIPTION:Grantsburgchamber.com
URL:https://www.bigsandlakewi.org/event/big-gust-days-gransburg/
LOCATION:WI
END:VEVENT
BEGIN:VEVENT
DTSTART;TZID=America/Chicago:20160602T183000
DTEND;TZID=America/Chicago:20160602T203000
DTSTAMP:20260423T191257
CREATED:20140309T153403Z
LAST-MODIFIED:20160409T114639Z
UID:407-1464892200-1464899400@www.bigsandlakewi.org
SUMMARY:Music in the Park Season Begins
DESCRIPTION:
URL:https://www.bigsandlakewi.org/event/music-in-the-park/
LOCATION:WI
END:VEVENT
BEGIN:VEVENT
DTSTART;TZID=America/Chicago:20160514T080000
DTEND;TZID=America/Chicago:20160514T140000
DTSTAMP:20260423T191257
CREATED:20140329T193631Z
LAST-MODIFIED:20160408T121304Z
UID:445-1463212800-1463234400@www.bigsandlakewi.org
SUMMARY:Adventure Triathlon
DESCRIPTION:Triathlon Website
URL:https://www.bigsandlakewi.org/event/adventure-triathalon/
LOCATION:Memory Lake Park\, Grantsburg\, WI\, United States
END:VEVENT
BEGIN:VEVENT
DTSTART;VALUE=DATE:20160507
DTEND;VALUE=DATE:20160508
DTSTAMP:20260423T191257
CREATED:20160408T113044Z
LAST-MODIFIED:20160408T113044Z
UID:810-1462579200-1462665599@www.bigsandlakewi.org
SUMMARY:Fishing Opener (follow link for more info)
DESCRIPTION:DNR info by species
URL:https://www.bigsandlakewi.org/event/fishing-opener-follow-link-for-more-info/
LOCATION:WI
END:VEVENT
BEGIN:VEVENT
DTSTART;TZID=America/Chicago:20160423T143000
DTEND;TZID=America/Chicago:20160423T153000
DTSTAMP:20260423T191257
CREATED:20160405T023315Z
LAST-MODIFIED:20160412T133206Z
UID:806-1461421800-1461425400@www.bigsandlakewi.org
SUMMARY:Town of LaFollette Annual Meeting
DESCRIPTION:
URL:https://www.bigsandlakewi.org/event/town-of-lafollette-annual-meeting/
LOCATION:Town of LaFollete Town Hall\, 24814 Malone Road\, Webster\, 54893\, United States
CATEGORIES:Town Meeting
END:VEVENT
BEGIN:VEVENT
DTSTART;TZID=America/Chicago:20160419T190000
DTEND;TZID=America/Chicago:20160419T200000
DTSTAMP:20260423T191257
CREATED:20160405T023722Z
LAST-MODIFIED:20160405T023722Z
UID:808-1461092400-1461096000@www.bigsandlakewi.org
SUMMARY:Town of Sand Lake Annual Meeting
DESCRIPTION:
URL:https://www.bigsandlakewi.org/event/town-of-sand-lake-annual-meeting/
LOCATION:Sand Lake Town Hall\, 5364 Count Rd X\, Webster\, WI\, United States
END:VEVENT
BEGIN:VEVENT
DTSTART;TZID=America/Chicago:20160416T100000
DTEND;TZID=America/Chicago:20160416T120000
DTSTAMP:20260423T191257
CREATED:20160331T100853Z
LAST-MODIFIED:20160331T100853Z
UID:801-1460800800-1460808000@www.bigsandlakewi.org
SUMMARY:Free Document Shredding
DESCRIPTION:
URL:https://www.bigsandlakewi.org/event/free-document-shredding/
LOCATION:Bremer Bank parking Lot\,  24449 Old Highway 35\, Siren\, 54872
END:VEVENT
BEGIN:VEVENT
DTSTART;TZID=America/Chicago:20151128T170000
DTEND;TZID=America/Chicago:20151128T200000
DTSTAMP:20260423T191257
CREATED:20151024T181505Z
LAST-MODIFIED:20151024T181505Z
UID:792-1448730000-1448740800@www.bigsandlakewi.org
SUMMARY:Lions Christmas Display Lighting - @ dusk
DESCRIPTION:. Visit our Christmas Displays – Lighting is at dusk. Enjoy Hot Chocolate and Cookies.
URL:https://www.bigsandlakewi.org/event/lions-christmas-display-lighting-dusk/
LOCATION:WI
END:VEVENT
BEGIN:VEVENT
DTSTART;TZID=America/Chicago:20150808T140000
DTEND;TZID=America/Chicago:20150808T160000
DTSTAMP:20260423T191257
CREATED:20150629T232329Z
LAST-MODIFIED:20150810T155602Z
UID:740-1439042400-1439049600@www.bigsandlakewi.org
SUMMARY:Big Sand Lake Picnic
DESCRIPTION:Jim Anderson’s
URL:https://www.bigsandlakewi.org/event/big-sand-lake-picnic-2/
LOCATION:WI
END:VEVENT
BEGIN:VEVENT
DTSTART;TZID=America/Chicago:20150627T090000
DTEND;TZID=America/Chicago:20150627T103000
DTSTAMP:20260423T191257
CREATED:20150518T150701Z
LAST-MODIFIED:20150518T150701Z
UID:692-1435395600-1435401000@www.bigsandlakewi.org
SUMMARY:BCLRA Annual Meeting & Lakes Forum
DESCRIPTION:Annual Meeting: June 27th at Forts Folle Avoine\, 9 a.m. After the brief annual meeting\, selected lake asso- ciation leaders will present projects they have participated in and discuss\, via a panel\, how other lake associations can become engaged in protecting lake resources. Any- one interested is welcome to listen and ask questions. \nLakes Forum: June 27th at Forts Folle Avoine\, approximately 9:30 a.m. Lakes Forum with Lake Association presentations and dialogue on: fish sticks\, aquatic fish management\, land purchases for lake conservation\, and long term fish stocking. Public welcome.
URL:https://www.bigsandlakewi.org/event/bclra-annual-meeting-lakes-forum/
LOCATION:Forts Folle Avoine\, 8500 County Road U\, Danbury\, WI\, 54830\, United States
END:VEVENT
BEGIN:VEVENT
DTSTART;TZID=America/Chicago:20150626T080000
DTEND;TZID=America/Chicago:20150626T150000
DTSTAMP:20260423T191257
CREATED:20150518T135035Z
LAST-MODIFIED:20150518T135035Z
UID:686-1435305600-1435330800@www.bigsandlakewi.org
SUMMARY:Northwest Lakes Conference
DESCRIPTION:Registration deadline is June 20th  http://www.wisconsinlakes.org/ \nAgenda is in the Lakelines Newsletter  (a link can be found under “useful links” menu.  
URL:https://www.bigsandlakewi.org/event/northwest-lakes-conference/
LOCATION:Hayward High School\, 10320 North Greenwood Lane\, Hayward\, WI\, United States
END:VEVENT
BEGIN:VEVENT
DTSTART;TZID=America/Chicago:20140830T090000
DTEND;TZID=America/Chicago:20140830T120000
DTSTAMP:20260423T191257
CREATED:20140815T194837Z
LAST-MODIFIED:20140815T194958Z
UID:606-1409389200-1409400000@www.bigsandlakewi.org
SUMMARY:NORTHMINSTER FUN DOG SHOW!
DESCRIPTION:Admission $5 for adults;  Register your dog to show for $25 (pre-registration required)Come join us for a day of fun! Now’s the time to show off your beloved pet – and they don’t have to be a pure-bred with papers to enter (unless the papers are potty pads). CLICK HERE FOR REGISTRATION FORM\, or stop by the shelter during business hours. (Must pre-register; no walk-in registrations.) All proceeds benefit the Humane Society of Burnett County\, Inc.’s new building fund. Your support helps the animals at our shelter\, and we thank you. \nhttp://www.hsburnettcty.org/events.html \n 
URL:https://www.bigsandlakewi.org/event/northminster-fun-dog-show/
LOCATION:Webster Middle/High School\, 7564 W. Alder St.\, Webster\, WI\, United States
END:VEVENT
BEGIN:VEVENT
DTSTART;VALUE=DATE:20140821
DTEND;VALUE=DATE:20140825
DTSTAMP:20260423T191257
CREATED:20140329T202943Z
LAST-MODIFIED:20140815T184230Z
UID:467-1408579200-1408924799@www.bigsandlakewi.org
SUMMARY:Burnett County Agricultural Society Fair
DESCRIPTION:Carnival and games\, demo derby\, tractor and truck pull\, horse showdeo\, exhibits\, animals\, talent show\, parade\, concessions and more! \nClick here for more information
URL:https://www.bigsandlakewi.org/event/burnett-county-agricultural-society-fair/
LOCATION:Grantsburg Fairgrounds\,  914 South Pine Street\, Granstburg\, WI\, 54840\, United States
END:VEVENT
BEGIN:VEVENT
DTSTART;TZID=America/Chicago:20140816T130000
DTEND;TZID=America/Chicago:20140816T170000
DTSTAMP:20260423T191257
CREATED:20140815T193435Z
LAST-MODIFIED:20140815T193435Z
UID:603-1408194000-1408208400@www.bigsandlakewi.org
SUMMARY:Animal Awareness Center Celebration
DESCRIPTION:Come Celebrate Our Two Year Anniversary!The Animal Wellness Center will be hosting two year anniversary celebration and benefit at the Siren Auction Hous Saturday\, August 16 from 1-5pm. There will be fun for the whole family—carnival games for kids and adults\, vendors\, door prizes\, raffles\, and food. There will also be disc dog demonstrations\, animal exhibits\, and exotic pets. You can even have your photo taken with either a boa constrictor or python.
URL:https://www.bigsandlakewi.org/event/animal-awareness-center-celebration/
LOCATION:Siren Auction House\, 23755 Wisconsin 35\, Siren\, WI\, United States
END:VEVENT
END:VCALENDAR